BEGIN:VCALENDAR
PRODID:-//AT Content Types//AT Event//EN
VERSION:2.0
METHOD:PUBLISH
BEGIN:VEVENT
DTSTAMP:20260419T205118Z
CREATED:20200727T120958Z
UID:ATEvent-0d5c878cce60442488c65968cfe53c6a
LAST-MODIFIED:20201012T095031Z
SUMMARY:Formation " porter la communion\, pourquoi\, comment ? "
DTSTART:20201024T123000Z
DTEND:20201024T143000Z
DESCRIPTION:Formation ouverte à tous ceux qui portent – ou envisage
 nt de porter – la communion aux malades\, à la maison diocésaine d
 e 14 h 30 à 16 h 30. Organisée par la Pastorale de la santé
  et assurée par Mgr Francis Bestion.
LOCATION:Maison diocésaine à Tulle
CONTACT:Benoit Solignac benoit.solignac@fratgsa.org\, 06 84 87 60 61\, benoit.solignac@fratgsa.org
CLASS:PUBLIC
END:VEVENT
END:VCALENDAR
