BEGIN:VCALENDAR
PRODID:-//AT Content Types//AT Event//EN
VERSION:1.0
BEGIN:VEVENT
DTSTART:20180114T093000Z
DTEND:20180114T093000Z
DCREATED:20171227T160600Z
UID:ATEvent-dc86f973ab0d45c3903f74092703cc83
SEQUENCE:0
LAST-MODIFIED:20180104T104625Z
SUMMARY:Journée mondiale du migrant et du réfugié
DESCRIPTION:Messe et repas partagé avec nos frères et soeurs migrant
 s à Tulle
LOCATION:TULLE
PRIORITY:3
TRANSP:0
END:VEVENT
END:VCALENDAR
