BEGIN:VCALENDAR
PRODID:-//AT Content Types//AT Event//EN
VERSION:1.0
BEGIN:VEVENT
DTSTART:20230923T220000Z
DTEND:20230923T220000Z
DCREATED:20220622T082008Z
UID:ATEvent-32655cfba6914f1a965ba30c66a76f24
SEQUENCE:0
LAST-MODIFIED:20230825T100800Z
SUMMARY:JournÃ©e Mondiale du Migrant et du RÃ©fugiÃ©
DESCRIPTION:La JournÃ©e Mondiale du Migrant et du RÃ©fugiÃ© sera cÃ©lÃ
 ©brÃ©e dimanche 24 septembre 2023. Cette 109Ã¨me JMMR a pour thÃ¨me : 
 Â« Libres de choisir entre migrer ou rester Â».
LOCATION:CommunautÃ©s locales
PRIORITY:3
TRANSP:0
END:VEVENT
END:VCALENDAR
