BEGIN:VCALENDAR
PRODID:-//AT Content Types//AT Event//EN
VERSION:2.0
METHOD:PUBLISH
BEGIN:VEVENT
DTSTAMP:20260422T205415Z
CREATED:20240115T103251Z
UID:ATEvent-f7c805ab3efe481682b7e203957130d3
LAST-MODIFIED:20240115T103302Z
SUMMARY:Journée mondiale du malade et dimanche de la santé
DTSTART:20240210T230000Z
DTEND:20240210T230000Z
DESCRIPTION:Cette année\, la Journée mondiale du malade coïncide av
 ec le dimanche de la santé\, le 11 février. Thème 2024 : "De partou
 t on venait à lui" (Mc 1,45).
LOCATION:Communautés locales
CLASS:PUBLIC
END:VEVENT
END:VCALENDAR
