BEGIN:VCALENDAR
PRODID:-//AT Content Types//AT Event//EN
VERSION:2.0
METHOD:PUBLISH
BEGIN:VEVENT
DTSTAMP:20260420T124232Z
CREATED:20230130T162830Z
UID:ATEvent-2cf960f1ba3b440d8bcaaf4ce36d90bc
LAST-MODIFIED:20230327T140245Z
SUMMARY:Journée diocésaine de formation à la communication
DTSTART:20230325T081500Z
DTEND:20230326T143000Z
LOCATION:Maison diocésaine
CLASS:PUBLIC
END:VEVENT
END:VCALENDAR
