BEGIN:VCALENDAR
PRODID:-//AT Content Types//AT Event//EN
VERSION:2.0
METHOD:PUBLISH
BEGIN:VEVENT
DTSTAMP:20260419T122122Z
CREATED:20180626T094502Z
UID:ATEvent-710617233f2940bc92e910c7c4ff4413
LAST-MODIFIED:20180911T101846Z
SUMMARY:Journée des mamans à Saint Antoine
DTSTART:20180925T073000Z
DTEND:20180925T140000Z
DESCRIPTION:Enseignement donné par un frère\, adoration\, temps pers
 onnel\, partage\, sacrement du pardon.
LOCATION:Brive Grottes St Antoine
CONTACT:Grottes Saint Antoine\, 05 55 24 10 60\, benoitmarie.macqueron@gmail.com
CLASS:PUBLIC
END:VEVENT
END:VCALENDAR
