BEGIN:VCALENDAR
PRODID:-//AT Content Types//AT Event//EN
VERSION:2.0
METHOD:PUBLISH
BEGIN:VEVENT
DTSTAMP:20260424T122152Z
CREATED:20180913T072245Z
UID:ATEvent-4b8f1a1c4e82448f8170ce26599a337e
LAST-MODIFIED:20180913T072254Z
SUMMARY:Journée des mamans à Saint Antoine
DTSTART:20190326T083000Z
DTEND:20190326T150000Z
DESCRIPTION:Enseignement donné par un frère\, adoration\, temps pers
 onnel\, partage\, sacrement du pardon.
LOCATION:Brive Grottes St Antoine
CONTACT:Grottes Saint Antoine\, 05 55 24 10 60\, benoitmarie.macqueron@gmail.com
CLASS:PUBLIC
END:VEVENT
END:VCALENDAR
