BEGIN:VCALENDAR
PRODID:-//AT Content Types//AT Event//EN
VERSION:2.0
METHOD:PUBLISH
BEGIN:VEVENT
DTSTAMP:20260419T205227Z
CREATED:20180913T071251Z
UID:ATEvent-a983ead5ba2c430b8f6344b50144edca
LAST-MODIFIED:20180913T071443Z
SUMMARY:Journée des mamans à Saint Antoine
DTSTART:20181204T083000Z
DTEND:20181204T150000Z
DESCRIPTION:Enseignement donné par un frère\, adoration\, temps pers
 onnel\, partage\, sacrement du pardon.
LOCATION:Brive Grottes St Antoine
CONTACT:Grottes Saint Antoine\, 05 55 24 10 60\, benoitmarie.macqueron@gmail.com
CLASS:PUBLIC
END:VEVENT
END:VCALENDAR
