BEGIN:VCALENDAR
PRODID:-//AT Content Types//AT Event//EN
VERSION:2.0
METHOD:PUBLISH
BEGIN:VEVENT
DTSTAMP:20260421T130052Z
CREATED:20170615T081452Z
UID:ATEvent-f915d037357f4b06ac6ec60d537e9bad
LAST-MODIFIED:20170615T095204Z
SUMMARY:Journée de vacances collectives avec le Secours Catholique
DTSTART:20170722T070000Z
DTEND:20170722T160000Z
DESCRIPTION:Journée de vacances collectives\, organisée par le Secou
 rs Catholique de la Corrèze\,  au bord du lac de Marcillac-la-Croisil
 le.
LOCATION:Marcillac-La-Croisille
CONTACT:Gwénaëlle LEPOUTRE\, 05 55 24 03 26\, comite-correze@secours-catholique.org
CLASS:PUBLIC
END:VEVENT
END:VCALENDAR
