BEGIN:VCALENDAR
PRODID:-//AT Content Types//AT Event//EN
VERSION:2.0
METHOD:PUBLISH
BEGIN:VEVENT
DTSTAMP:20260423T025226Z
CREATED:20240108T110153Z
UID:ATEvent-f9189b63f66646ac9f14bdf93c58149f
LAST-MODIFIED:20240228T072055Z
SUMMARY:Journée de retraite spirituelle pour l'espace missionnaire d'Objat
DTSTART:20240302T080000Z
DTEND:20240302T150000Z
DESCRIPTION:Journée de retraite spirituelle pour l'ensemble des chré
 tiens de l'espace missionnaire d'Objat. Le Père Henri\, franciscain\,
  nous guidera pour cette journée\, à l’école de l’évangile de 
 la Samaritaine\, évangélisée et évangélisatrice
LOCATION:Brive Grottes Saint Antoine
CONTACT:notredamedestroisrivieres@gmail.com
CLASS:PUBLIC
END:VEVENT
END:VCALENDAR
