BEGIN:VCALENDAR
PRODID:-//AT Content Types//AT Event//EN
VERSION:1.0
BEGIN:VEVENT
DTSTART:20230923T070000Z
DTEND:20230923T070000Z
DCREATED:20230819T135630Z
UID:ATEvent-ee4032fe86f54bff8a83197e7da71afa
SEQUENCE:0
LAST-MODIFIED:20230819T140733Z
SUMMARY:Journée de rentrée des familles
DESCRIPTION:Organisée par les AFC\, Equipes Notre-Dame\, Vivre et Aim
 er\, ouverte à vous tous. Matinée END qui débutera à 9H00 à AUBAZ
 INE. Messe pour l'ensemble des mouvements à 11H00 à l'Abbatiale. Rep
 as et activités organisés avec les AFC au Lac du Coiroux. Inscriptio
 ns pour le repas : afc.correze@yahoo.fr
LOCATION:Aubazine
PRIORITY:3
TRANSP:0
END:VEVENT
END:VCALENDAR
