BEGIN:VCALENDAR
PRODID:-//AT Content Types//AT Event//EN
VERSION:2.0
METHOD:PUBLISH
BEGIN:VEVENT
DTSTAMP:20260419T141050Z
CREATED:20170817T113132Z
UID:ATEvent-7590b441934b4fcd8d8e485fb87497e9
LAST-MODIFIED:20170817T123048Z
SUMMARY:Journée de rentrée des AFC et des END
DTSTART:20170827T083000Z
DTEND:20170827T083000Z
DESCRIPTION:Journée de rentrée des AFC et des END à Marcillac la Cr
 oisille
LOCATION:Marcillac-La-Croisille
CONTACT:AFC de la Corrèze\, afc.correze@yahoo.fr
CLASS:PUBLIC
END:VEVENT
END:VCALENDAR
