BEGIN:VCALENDAR
PRODID:-//AT Content Types//AT Event//EN
VERSION:1.0
BEGIN:VEVENT
DTSTART:20180525T220000Z
DTEND:20180525T220000Z
DCREATED:20180507T074452Z
UID:ATEvent-9f782db84f8b4bdfb70ba1fb496f7133
SEQUENCE:0
LAST-MODIFIED:20180507T074504Z
SUMMARY:Journée de partage pour toutes les E.A.P.
DESCRIPTION:Toutes les équipes d'Animation Pastorale des diocèses de
  Tulle et du Lot se retrouveront à l'invitation de Mgr Bestion et Mgr
  Camiade\, pour une journée de partage et de récollection
LOCATION:Brive Grottes Saint Antoine
PRIORITY:3
TRANSP:0
END:VEVENT
END:VCALENDAR
