BEGIN:VCALENDAR
PRODID:-//AT Content Types//AT Event//EN
VERSION:1.0
BEGIN:VEVENT
DTSTART:20180630T120000Z
DTEND:20180630T120000Z
DCREATED:20180608T070026Z
UID:ATEvent-cc912ea7ff8540d3a3badcd2636b09a1
SEQUENCE:0
LAST-MODIFIED:20180608T071316Z
SUMMARY:Randonner...  autrement avec l'Association Vivre et Aimer
DESCRIPTION:Randonner autrement... Journée organisée par l'associati
 on Vivre et Aimer pour vivre en famille ce mois de juin. Venez prendre
  un temps pour votre\ncouple (avec ou sans enfants)
LOCATION:Noailles Parking du gouffre de la Fage
PRIORITY:3
TRANSP:0
END:VEVENT
END:VCALENDAR
