BEGIN:VCALENDAR
PRODID:-//AT Content Types//AT Event//EN
VERSION:1.0
BEGIN:VEVENT
DTSTART:20171014T080000Z
DTEND:20171014T080000Z
DCREATED:20171005T072751Z
UID:ATEvent-881821b528fb46ecb16a77ee8173048c
SEQUENCE:0
LAST-MODIFIED:20171010T130315Z
SUMMARY:Inauguration de la restauration de l'église de Noailhac
DESCRIPTION:L'église Saint Pierre-ès-Liens a fait l'objet d'une rest
 auration complète\, extérieure (2014/2016) et intérieure (2016/2017
 ).
LOCATION:NOAILHAC église
PRIORITY:3
TRANSP:0
END:VEVENT
END:VCALENDAR
