BEGIN:VCALENDAR
PRODID:-//AT Content Types//AT Event//EN
VERSION:2.0
METHOD:PUBLISH
BEGIN:VEVENT
DTSTAMP:20260419T153840Z
CREATED:20190107T094048Z
UID:ATEvent-3c6cf24ffeba4f38bb790f62770d288a
LAST-MODIFIED:20190107T094121Z
SUMMARY:Heure Musicale par Claire Sigalia
DTSTART:20190224T160000Z
DTEND:20190224T160000Z
DESCRIPTION:Elève du Conservatoire Régional de Versailles.1er concer
 t d'orgue de la saison 2019
LOCATION:TULLE Cathédrale
CONTACT:Association des Amis de l'orgue\,  06 12 23 92 07
CLASS:PUBLIC
END:VEVENT
END:VCALENDAR
