BEGIN:VCALENDAR
PRODID:-//AT Content Types//AT Event//EN
VERSION:2.0
METHOD:PUBLISH
BEGIN:VEVENT
DTSTAMP:20260419T151800Z
CREATED:20190107T103115Z
UID:ATEvent-429d3469c7df4b9cb3a990795ff68a27
LAST-MODIFIED:20190107T103252Z
SUMMARY:Groupe théologique : la Trinité
DTSTART:20190114T230000Z
DTEND:20190114T230000Z
DESCRIPTION:En puisant dans l'Ecriture Sainte\, la théologie\, l'art 
 et la spiritualité\, chacun pourra redécouvrir la Trinité comme sou
 rce d'unité\, de bonheur et de contemplation.\n\nUn mardi par mois de
  16 H à 17 H 30 ou de 20 H 15 à 21 H 45.
LOCATION:Brive Grottes Saint Antoine
CONTACT:05 55 24 10 60\, hotellerie@fratgsa.org
CLASS:PUBLIC
END:VEVENT
END:VCALENDAR
