BEGIN:VCALENDAR
PRODID:-//AT Content Types//AT Event//EN
VERSION:2.0
METHOD:PUBLISH
BEGIN:VEVENT
DTSTAMP:20260419T151812Z
CREATED:20200924T080047Z
UID:ATEvent-e629e0071bd84c719746f79aafd201da
LAST-MODIFIED:20200924T080057Z
SUMMARY:Groupe de louange "Agapé"
DTSTART:20201030T193000Z
DTEND:20201030T203000Z
DESCRIPTION:A Beynat et aux alentours\, des soirées de louange et d'a
 doration "Agapé" sont mises en place. 30 minutes de chant suivies d'a
 doration silencieuse avec possibilité de se confesser. Tous les derni
 ers vendredis du mois en tournant : Beynat\, Aubazine\, Sainte Fortuna
 de
LOCATION:Aubazine
CONTACT:Elodie Dewerdt-Dujardin / Bénédicte Baeza-Syreix \, 06-64-16-43-79 / 06-65-57-49-32
CLASS:PUBLIC
END:VEVENT
END:VCALENDAR
