BEGIN:VCALENDAR
PRODID:-//AT Content Types//AT Event//EN
VERSION:1.0
BEGIN:VEVENT
DTSTART:20250328T230000Z
DTEND:20250328T230000Z
DCREATED:20241028T103254Z
UID:ATEvent-8bfc3f6128ab4e1f9ab7e379124fe1af
SEQUENCE:0
LAST-MODIFIED:20250403T092854Z
SUMMARY:Groupe biblique : La lettre aux Galates
DESCRIPTION:Mardis dans l’année de 16h00 à 17h30 ou de 20h15 à 21
 h45. Animé par Colette Chanas-Gobert\, pasteure à la retraite
LOCATION:Brive Grottes Saint Antoine
PRIORITY:3
TRANSP:0
END:VEVENT
END:VCALENDAR
