BEGIN:VCALENDAR
PRODID:-//AT Content Types//AT Event//EN
VERSION:1.0
BEGIN:VEVENT
DTSTART:20171108T193000Z
DTEND:20171108T193000Z
DCREATED:20170919T073750Z
UID:ATEvent-0a6f23110465445c84c61286ad6ee276
SEQUENCE:0
LAST-MODIFIED:20170919T074913Z
SUMMARY:Grottes de Saint Antoine\, lieu de résistance
DESCRIPTION:Conférence par François David
LOCATION:BRIVE Grottes Saint Antoine
PRIORITY:3
TRANSP:0
END:VEVENT
END:VCALENDAR
