BEGIN:VCALENDAR
PRODID:-//AT Content Types//AT Event//EN
VERSION:2.0
METHOD:PUBLISH
BEGIN:VEVENT
DTSTAMP:20260419T122346Z
CREATED:20190107T102258Z
UID:ATEvent-d62ff0365a1949b1aa858fd7de9d8115
LAST-MODIFIED:20190107T102320Z
SUMMARY:Galette des Amis de Saint Antoine
DTSTART:20190113T150000Z
DTEND:20190113T150000Z
DESCRIPTION:Se retrouver en début d'année civile pour partager la ga
 lette des Rois et remercier ceux et celles qui font vivre le site des 
 Grottes de Saint Antoine.
LOCATION:Brive Grottes Saint Antoine
CONTACT:05 55 24 10 60\, hotellerie@fratgsa.org
CLASS:PUBLIC
END:VEVENT
END:VCALENDAR
