BEGIN:VCALENDAR
PRODID:-//AT Content Types//AT Event//EN
VERSION:2.0
METHOD:PUBLISH
BEGIN:VEVENT
DTSTAMP:20260422T010140Z
CREATED:20190104T145819Z
UID:ATEvent-6bdcf14cc8f545b9808706c647d32d59
LAST-MODIFIED:20190104T145836Z
SUMMARY:Formation sur le temps des scrutins
DTSTART:20190119T083000Z
DTEND:20190119T110000Z
DESCRIPTION:Les accompagnateurs de catéchumènes adultes sont attendu
 s pour un temps de formation sur le temps des scrutins\, autrement app
 elé temps de la préparation ultime. Après l'appel décisif entendu 
 le 1er dimanche de Carême\, s'ouvre pour les catéchumènes le temps 
 de la "purification et de l'illumination"\, temps de retraite spiritue
 lle et de conversion.
CONTACT:Catherine Faucher\, 06 87 42 74 53\, c.faucher19@orange.fr
CLASS:PUBLIC
END:VEVENT
END:VCALENDAR
