BEGIN:VCALENDAR
PRODID:-//AT Content Types//AT Event//EN
VERSION:1.0
BEGIN:VEVENT
DTSTART:20200314T133000Z
DTEND:20200314T160000Z
DCREATED:20191213T105342Z
UID:ATEvent-586f25625a6b4827a5d8e1b2ebb0522f
SEQUENCE:0
LAST-MODIFIED:20191213T105350Z
SUMMARY:Formation : Porter la communion aux malades
DESCRIPTION:Formation par le Père Jean RIGAL.
LOCATION:Tulle Maison diocésaine
PRIORITY:3
TRANSP:0
END:VEVENT
END:VCALENDAR
