BEGIN:VCALENDAR
PRODID:-//AT Content Types//AT Event//EN
VERSION:1.0
BEGIN:VEVENT
DTSTART:20260207T083000Z
DTEND:20260207T083000Z
DCREATED:20251121T081518Z
UID:ATEvent-83b179a6eb7c432d92e32491d543986e
SEQUENCE:0
LAST-MODIFIED:20260212T105022Z
SUMMARY:Formation : être appelé et envoyé par l'Eglise
DESCRIPTION:Cette formation s’adresse à toute personne qui œuvre a
 u nom de notre Église diocésaine\, dans quel service que ce soit (Pa
 storale de la santé\, accompagnement des familles en deuil\, aumôner
 ie des prisons\, etc.).
LOCATION:Tulle Maison diocésaine
PRIORITY:3
TRANSP:0
END:VEVENT
END:VCALENDAR
