BEGIN:VCALENDAR
PRODID:-//AT Content Types//AT Event//EN
VERSION:1.0
BEGIN:VEVENT
DTSTART:20221210T130000Z
DTEND:20221210T160000Z
DCREATED:20221103T164634Z
UID:ATEvent-446326d5238e4b58a59897fc5c4c6508
SEQUENCE:0
LAST-MODIFIED:20221201T095352Z
SUMMARY:Formation diocésaine à la vie d'équipe - ANNULEE
DESCRIPTION:Organisée par la Pastorale de la Santé
LOCATION:Tulle Maison diocésaine
PRIORITY:3
TRANSP:0
END:VEVENT
END:VCALENDAR
