BEGIN:VCALENDAR
PRODID:-//AT Content Types//AT Event//EN
VERSION:1.0
BEGIN:VEVENT
DTSTART:20181108T083000Z
DTEND:20181108T110000Z
DCREATED:20180924T150023Z
UID:ATEvent-cf14669e29dc4e928130364a7fb40641
SEQUENCE:0
LAST-MODIFIED:20180924T150029Z
SUMMARY:Formation à l'accompagnement des enfants demandant le baptême
DESCRIPTION:Toutes les personnes\, laïcs et prêtres\, accompagnant d
 es enfants en âge scolaire sur le chemin du baptême pourront profite
 r d'un temps de partage et de formation autour de l'accompagnement sur
  le chemin du baptême.Comment vivre une démarche de type catéchumé
 nale avec des enfants ?
LOCATION:Tulle Maison diocésaine
PRIORITY:3
TRANSP:0
END:VEVENT
END:VCALENDAR
