BEGIN:VCALENDAR
PRODID:-//AT Content Types//AT Event//EN
VERSION:2.0
METHOD:PUBLISH
BEGIN:VEVENT
DTSTAMP:20260419T152510Z
CREATED:20250922T072414Z
UID:ATEvent-d47ad91435804ac5ace81a29ac2fcbdb
LAST-MODIFIED:20250922T072421Z
SUMMARY:Fêtes de Saint François d’Assise
DTSTART:20251002T220000Z
DTEND:20251004T220000Z
LOCATION:Brive Grottes Saint Antoine
CONTACT:contact@saintantoine-brive.fr
CLASS:PUBLIC
END:VEVENT
END:VCALENDAR
