BEGIN:VCALENDAR
PRODID:-//AT Content Types//AT Event//EN
VERSION:1.0
BEGIN:VEVENT
DTSTART:20180612T100000Z
DTEND:20180614T060000Z
DCREATED:20180423T091227Z
UID:ATEvent-c75287c6a7c5460081358ee4b2fae3b6
SEQUENCE:0
LAST-MODIFIED:20180514T081602Z
SUMMARY:Fête pèlerinage de la Saint Antoine
LOCATION:Brive Grottes Saint Antoine
PRIORITY:3
TRANSP:0
END:VEVENT
END:VCALENDAR
