BEGIN:VCALENDAR
PRODID:-//AT Content Types//AT Event//EN
VERSION:1.0
BEGIN:VEVENT
DTSTART:20250907T083000Z
DTEND:20250907T083000Z
DCREATED:20250618T154243Z
UID:ATEvent-94db43339ced497b878a79b9c667104d
SEQUENCE:0
LAST-MODIFIED:20250825T084538Z
SUMMARY:Fête des oignons - Messe de rentrée pastorale
DESCRIPTION:Bénédiction des cartables. Présentation de la nouvelle 
 communauté. Repas partagé.
LOCATION:Brive Grottes Saint Antoine
PRIORITY:3
TRANSP:0
END:VEVENT
END:VCALENDAR
