BEGIN:VCALENDAR
PRODID:-//AT Content Types//AT Event//EN
VERSION:1.0
BEGIN:VEVENT
DTSTART:20190722T080000Z
DTEND:20190722T080000Z
DCREATED:20190716T093333Z
UID:ATEvent-de07616179d342faadbeaa0eea20fc0d
SEQUENCE:0
LAST-MODIFIED:20190719T075907Z
SUMMARY:Fête de Sainte Marie-Madeleine à Soursac
DESCRIPTION:Pèlerinage de Sainte Marie-Madeleine. Messe à 10 h.
LOCATION:Soursac (chapelle Lamirande-Haute)
PRIORITY:3
TRANSP:0
END:VEVENT
END:VCALENDAR
