BEGIN:VCALENDAR
PRODID:-//AT Content Types//AT Event//EN
VERSION:1.0
BEGIN:VEVENT
DTSTART:20241124T093000Z
DTEND:20241124T093000Z
DCREATED:20241028T080302Z
UID:ATEvent-430c588c7d054e66af63544b18e88118
SEQUENCE:0
LAST-MODIFIED:20241028T080309Z
SUMMARY:Fête de Saint Pierre Dumoulin Borie
DESCRIPTION:Il est fêté le 24 novembre en même temps que les 116 au
 tres Saints martyrs du Vietnam.
LOCATION:Beynat (église)
PRIORITY:3
TRANSP:0
END:VEVENT
END:VCALENDAR
