BEGIN:VCALENDAR
PRODID:-//AT Content Types//AT Event//EN
VERSION:1.0
BEGIN:VEVENT
DTSTART:20230625T090000Z
DTEND:20230625T095500Z
DCREATED:20230613T080149Z
UID:ATEvent-04c078da2f484760b90b762a4e9b5701
SEQUENCE:0
LAST-MODIFIED:20230613T080202Z
SUMMARY:Fête de la Saint Jean Baptiste à Seilhac
LOCATION:Seilhac
PRIORITY:3
TRANSP:0
END:VEVENT
END:VCALENDAR
