BEGIN:VCALENDAR
PRODID:-//AT Content Types//AT Event//EN
VERSION:1.0
BEGIN:VEVENT
DTSTART:20220424T123000Z
DTEND:20220424T150000Z
DCREATED:20220127T091457Z
UID:ATEvent-e3102e38cb8d4cd396a3c3544df29fd5
SEQUENCE:0
LAST-MODIFIED:20220407T150454Z
SUMMARY:Fête de la Miséricorde divine
DESCRIPTION:Enseignement\, témoignages du père Roland Néné et de D
 ominque Guise\, louange\, confessions\, extraits du petit journal de S
 ainte Faustine\, adoration...
LOCATION:Neuvic(église St Etienne)
PRIORITY:3
TRANSP:0
END:VEVENT
END:VCALENDAR
