BEGIN:VCALENDAR
PRODID:-//AT Content Types//AT Event//EN
VERSION:2.0
METHOD:PUBLISH
BEGIN:VEVENT
DTSTAMP:20260420T034651Z
CREATED:20200220T094129Z
UID:ATEvent-ddca0428f9834433b95a586686ddca26
LAST-MODIFIED:20200403T130051Z
SUMMARY:FÃªte de la MisÃ©ricorde Ã  Ussel - AnnulÃ©
DTSTART:20200419T090000Z
DTEND:20200419T150000Z
DESCRIPTION:Le culte et la fÃªte de la MisÃ©ricorde ont Ã©tÃ© instituÃ
 ©s pour toute l'Eglise le 1er dimanche aprÃ¨s PÃ¢ques par Jean-Paul II
 . \nProgramme : Louange\, enseignement\, adoration\, confessions\, cha
 pelet
LOCATION:Ussel (Ã©glise Saint Martin)
CONTACT:PÃ¨re David Wosynski\, 06 58 19 31 49
CLASS:PUBLIC
END:VEVENT
END:VCALENDAR
