BEGIN:VCALENDAR
PRODID:-//AT Content Types//AT Event//EN
VERSION:1.0
BEGIN:VEVENT
DTSTART:20181208T073000Z
DTEND:20181209T110000Z
DCREATED:20181126T082340Z
UID:ATEvent-4696b6cc2b4e48faaf9cb4fd1b0f3e45
SEQUENCE:0
LAST-MODIFIED:20181203T074911Z
SUMMARY:Entrons dans la joie de Noel avec Marie
LOCATION:TULLE Cathédrale
PRIORITY:3
TRANSP:0
END:VEVENT
END:VCALENDAR
