BEGIN:VCALENDAR
PRODID:-//AT Content Types//AT Event//EN
VERSION:1.0
BEGIN:VEVENT
DTSTART:20190120T113000Z
DTEND:20190120T113000Z
DCREATED:20180922T075258Z
UID:ATEvent-7f671251a9424c85bffbca903370047c
SEQUENCE:0
LAST-MODIFIED:20190111T073610Z
SUMMARY:Dimanche fraternel avec le groupe de prière Siloe
DESCRIPTION:Repas partagé\, animation l’après-midi.
LOCATION:Brive  - Local de Siloé : 24\, av. A. de Musset
PRIORITY:3
TRANSP:0
END:VEVENT
END:VCALENDAR
