BEGIN:VCALENDAR
PRODID:-//AT Content Types//AT Event//EN
VERSION:2.0
METHOD:PUBLISH
BEGIN:VEVENT
DTSTAMP:20260420T012438Z
CREATED:20180925T085042Z
UID:ATEvent-bab3799f15c54d9aae143ff06fd16d21
LAST-MODIFIED:20181009T075002Z
SUMMARY:De la PMA à l'euthanasie - Conférence de Nicolas Sevilla
DTSTART:20181017T220000Z
DTEND:20181017T220000Z
DESCRIPTION:Comprendre les enjeux de la révision de la loi de bioéth
 ique.
LOCATION:Brive Centre paroissial Saint Sernin
CONTACT:A.F.C.de la Corrèze\,  06 69 05 05 62\, afc.correze@yahoo.fr
CLASS:PUBLIC
END:VEVENT
END:VCALENDAR
