BEGIN:VCALENDAR
PRODID:-//AT Content Types//AT Event//EN
VERSION:1.0
BEGIN:VEVENT
DTSTART:20180130T083000Z
DTEND:20180130T150000Z
DCREATED:20171002T085851Z
UID:ATEvent-e1d195909cdf4625821fca36854d7e55
SEQUENCE:0
LAST-MODIFIED:20171002T085938Z
SUMMARY:Journée des mamans
DESCRIPTION:Enseignement\, adoration\, temps personnel\, partage\, sac
 rement du pardon
LOCATION:Grottes de Saint-Antoine - Brive-la-Gaillarde
PRIORITY:3
TRANSP:0
END:VEVENT
END:VCALENDAR
