BEGIN:VCALENDAR
PRODID:-//AT Content Types//AT Event//EN
VERSION:1.0
BEGIN:VEVENT
DTSTART:20190927T095000Z
DTEND:20190929T095000Z
DCREATED:20190709T095147Z
UID:ATEvent-58920de5fac04b3088dd438c3573cda6
SEQUENCE:0
LAST-MODIFIED:20190709T095155Z
SUMMARY:"Congrès Mission" avec les étudiants et les jeunes pro
DESCRIPTION:Les chrétiens de France se réunissent pour réfléchir e
 nsemble à l'évangélisation et donner les moyens concrets de propose
 r la foi toujours et partout. Une délégation de la Corrèze\, menée
  par Don Mathieu\, s'y rendra. Si vous souhaitez les rejoindre\, conta
 cter la Pastorale des Jeunes.
LOCATION:Paris
PRIORITY:3
TRANSP:0
END:VEVENT
END:VCALENDAR
