BEGIN:VCALENDAR
PRODID:-//AT Content Types//AT Event//EN
VERSION:2.0
METHOD:PUBLISH
BEGIN:VEVENT
DTSTAMP:20260423T025224Z
CREATED:20200925T081614Z
UID:ATEvent-2302bfdf0cc14c699aaecd135daf4abd
LAST-MODIFIED:20200925T081621Z
SUMMARY:Confirmations des jeunes et de 2 adultees  à Ussel
DTSTART:20201025T093000Z
DTEND:20201025T093000Z
DESCRIPTION:Messe avec confirmations de la communauté locale d'Ussel\
 , en présence de Mgr Bestion.
LOCATION:Ussel
CONTACT:06 71 46 07 46
CLASS:PUBLIC
END:VEVENT
END:VCALENDAR
