BEGIN:VCALENDAR
PRODID:-//AT Content Types//AT Event//EN
VERSION:2.0
METHOD:PUBLISH
BEGIN:VEVENT
DTSTAMP:20260423T025225Z
CREATED:20200917T100029Z
UID:ATEvent-2f269e78d0e4420ca972dedbc17cffe7
LAST-MODIFIED:20201104T083045Z
SUMMARY:Conférence du frère Frédéric-Marie Le Méhauté\, franciscain - ANNULÉ
DTSTART:20201111T230000Z
DTEND:20201111T230000Z
DESCRIPTION:Conférence sur l'écologie intégrale. 16 h 00 à Ussel /
  20 h 30 à Brive (Ensemble Edmond Michelet).
LOCATION:Ussel / Brive
CONTACT:Diocèse de Tulle
CLASS:PUBLIC
END:VEVENT
END:VCALENDAR
