BEGIN:VCALENDAR
PRODID:-//AT Content Types//AT Event//EN
VERSION:2.0
METHOD:PUBLISH
BEGIN:VEVENT
DTSTAMP:20260421T142731Z
CREATED:20170817T115948Z
UID:ATEvent-2811ee580af448c9b9d136d2fa96458e
LAST-MODIFIED:20170824T080353Z
SUMMARY:Conférence débat avec le Fr Noël-Marie
DTSTART:20170826T153000Z
DTEND:20170826T153000Z
DESCRIPTION:Réflexion autour de la place de Marie mère Jésus dans l
 a construction de notre Foi  en dialoguant avec : Le frère Noël Rath
  prêtre et religieux\, membre de l’ordre des Servites de Marie.
LOCATION:Beynat (La Pagézie)
CONTACT:Philippe MICHELET\, micheletp@wanadoo.fr
CLASS:PUBLIC
END:VEVENT
END:VCALENDAR
