BEGIN:VCALENDAR
PRODID:-//AT Content Types//AT Event//EN
VERSION:2.0
METHOD:PUBLISH
BEGIN:VEVENT
DTSTAMP:20260422T053213Z
CREATED:20260306T083154Z
UID:ATEvent-2a3830e98fe143be8da0655d05ebf187
LAST-MODIFIED:20260306T083207Z
SUMMARY:Conférence de Carême
DTSTART:20260314T093000Z
DTEND:20260314T093000Z
DESCRIPTION:Une conférence de Carême donnée par notre évêque dans
  l'église d'Argentat
LOCATION:Église d'Argentat-sur-Dordogne
CLASS:PUBLIC
END:VEVENT
END:VCALENDAR
