BEGIN:VCALENDAR
PRODID:-//AT Content Types//AT Event//EN
VERSION:1.0
BEGIN:VEVENT
DTSTART:20210428T220000Z
DTEND:20210428T220000Z
DCREATED:20210209T151756Z
UID:ATEvent-4ad5e578c62d418ab03fe0e04a61f91c
SEQUENCE:0
LAST-MODIFIED:20210209T151804Z
SUMMARY:Conférence d'Aude Mirkovick sur les projets de loi bioéthique
DESCRIPTION:29 avril pour la conférence d’Aude Mirkovick sur les pr
 ojets de loi bioéthique.
LOCATION:Brive (Saint Sernin)
PRIORITY:3
TRANSP:0
END:VEVENT
END:VCALENDAR
