BEGIN:VCALENDAR
PRODID:-//AT Content Types//AT Event//EN
VERSION:1.0
BEGIN:VEVENT
DTSTART:20190829T183000Z
DTEND:20190829T183000Z
DCREATED:20190709T084123Z
UID:ATEvent-93de984e7a5548198efd542ab5511a69
SEQUENCE:0
LAST-MODIFIED:20190725T085036Z
SUMMARY:Les Petits Chanteurs de France à Objat
LOCATION:Objat (église)
PRIORITY:3
TRANSP:0
END:VEVENT
END:VCALENDAR
