BEGIN:VCALENDAR
PRODID:-//AT Content Types//AT Event//EN
VERSION:1.0
BEGIN:VEVENT
DTSTART:20190421T150000Z
DTEND:20190421T150000Z
DCREATED:20190312T104055Z
UID:ATEvent-127f9f3a00d344169d90302a6f5d46c9
SEQUENCE:0
LAST-MODIFIED:20190312T104102Z
SUMMARY:Concert d'orgue\, concert de Pâques
DESCRIPTION:Ce concert sera donné par Barbara Cornet\, élève du Con
 servatoire régional de Saint-Maur -des- Fossés\, titulaire de l'orgu
 e historique de Saint Rémi de Maison Alfort.
LOCATION:Tulle Cathédrale
PRIORITY:3
TRANSP:0
END:VEVENT
END:VCALENDAR
