BEGIN:VCALENDAR
PRODID:-//AT Content Types//AT Event//EN
VERSION:1.0
BEGIN:VEVENT
DTSTART:20250328T190000Z
DTEND:20250328T190000Z
DCREATED:20250225T092118Z
UID:ATEvent-0141607429404fa5888b6cfd2fa278bd
SEQUENCE:0
LAST-MODIFIED:20250225T092153Z
SUMMARY:Concert d'orgue avec Olivier Salandini
DESCRIPTION:Organiste de la cathédrale d'Orléans. Concert organisé 
 par le CCFD Terre-solidaire.
LOCATION:Brive Collégiale Saint Martin
PRIORITY:3
TRANSP:0
END:VEVENT
END:VCALENDAR
