BEGIN:VCALENDAR
PRODID:-//AT Content Types//AT Event//EN
VERSION:1.0
BEGIN:VEVENT
DTSTART:20241208T140000Z
DTEND:20241208T140000Z
DCREATED:20241119T151542Z
UID:ATEvent-72294df904d84055865603e98cad32b5
SEQUENCE:0
LAST-MODIFIED:20241119T151554Z
SUMMARY:Concert de Noël "Noël dans le Monde"
DESCRIPTION:Concert du R.P.L. Brive Limousin\, avec les groupes NAWA\,
  Irish Poitin Trio\, et des artistes surprises
LOCATION:Brive conservatoire de Brive
PRIORITY:3
TRANSP:0
END:VEVENT
END:VCALENDAR
