BEGIN:VCALENDAR
PRODID:-//AT Content Types//AT Event//EN
VERSION:1.0
BEGIN:VEVENT
DTSTART:20211128T140000Z
DTEND:20211128T140000Z
DCREATED:20211115T142650Z
UID:ATEvent-507e2a4e8a854e25a60a9a26044c3510
SEQUENCE:0
LAST-MODIFIED:20211115T142657Z
SUMMARY:Concert de Noël au profit du Liban
LOCATION:Brive auditorium F. Poulenc
PRIORITY:3
TRANSP:0
END:VEVENT
END:VCALENDAR
