BEGIN:VCALENDAR
PRODID:-//AT Content Types//AT Event//EN
VERSION:2.0
METHOD:PUBLISH
BEGIN:VEVENT
DTSTAMP:20260420T152400Z
CREATED:20180605T083512Z
UID:ATEvent-c91b5a69ec41474f8c15ba45cdca3e9b
LAST-MODIFIED:20180605T083518Z
SUMMARY:Concert de chants grégoriens par le Chœur Jubilate
DTSTART:20180717T183000Z
DTEND:20180717T203000Z
DESCRIPTION:Le programme conçu sur le thème du Magnificat comporte c
 hants grégoriens mais aussi polyphonies anciennes et des solos baroqu
 es.
LOCATION:Sornac église Saint Roch
CONTACT:06 60 20 47 50
CLASS:PUBLIC
END:VEVENT
END:VCALENDAR
